BEGIN:VCALENDAR
VERSION:2.0
PRODID:-//Dunedin History Museum - ECPv6.15.20//NONSGML v1.0//EN
CALSCALE:GREGORIAN
METHOD:PUBLISH
X-ORIGINAL-URL:https://dunedinmuseum.org
X-WR-CALDESC:Events for Dunedin History Museum
REFRESH-INTERVAL;VALUE=DURATION:PT1H
X-Robots-Tag:noindex
X-PUBLISHED-TTL:PT1H
BEGIN:VTIMEZONE
TZID:America/New_York
BEGIN:DAYLIGHT
TZOFFSETFROM:-0500
TZOFFSETTO:-0400
TZNAME:EDT
DTSTART:20250309T070000
END:DAYLIGHT
BEGIN:STANDARD
TZOFFSETFROM:-0400
TZOFFSETTO:-0500
TZNAME:EST
DTSTART:20251102T060000
END:STANDARD
BEGIN:DAYLIGHT
TZOFFSETFROM:-0500
TZOFFSETTO:-0400
TZNAME:EDT
DTSTART:20260308T070000
END:DAYLIGHT
BEGIN:STANDARD
TZOFFSETFROM:-0400
TZOFFSETTO:-0500
TZNAME:EST
DTSTART:20261101T060000
END:STANDARD
BEGIN:DAYLIGHT
TZOFFSETFROM:-0500
TZOFFSETTO:-0400
TZNAME:EDT
DTSTART:20270314T070000
END:DAYLIGHT
BEGIN:STANDARD
TZOFFSETFROM:-0400
TZOFFSETTO:-0500
TZNAME:EST
DTSTART:20271107T060000
END:STANDARD
END:VTIMEZONE
BEGIN:VEVENT
DTSTART;TZID=America/New_York:20260513T180000
DTEND;TZID=America/New_York:20260513T200000
DTSTAMP:20260425T142533
CREATED:20260316T173433Z
LAST-MODIFIED:20260407T155752Z
UID:10001483-1778695200-1778702400@dunedinmuseum.org
SUMMARY:Scotch & Stories at the Andrews Memorial Chapel
DESCRIPTION:Step into an evening of history\, poetry\, and fine Scotch at our 3rd Annual Scotch & Stories! 🥃✨\n\nJoin us May 13th from 6–8 PM at the historic Andrews Memorial Chapel for a memorable night celebrating Scotland’s rich heritage. Vinnie\, our Historian will share about the Whiskey Rebellion and its Scottish ties in honor of America 250. Then\, be transported by the timeless words of Robert Burns as Graham Muir delivers a stirring recital of one of the Bard’s classic poems.\n\n\nAs the stories unfold\, savor single malt Scotch and enjoy a selection of Scottish nibbles\, creating the perfect pairing of flavor\, culture\, and tradition.\n\n\n\nCome raise a glass\, enjoy great company\, and experience an unforgettable night of Scotch & Stories. Slàinte!  \n\n\nFor More Information call (727) 736-1176 or email us at admin@dunedinmuseum.org \n  \n\nGet Tickets
URL:https://dunedinmuseum.org/event/scotch-stories-at-the-andrews-memorial-chapel/
LOCATION:Andrews Memorial Chapel\, 1899 San Mateo Dr.\, Dunedin\, FL\, 34697\, United States
CATEGORIES:Dunedin History Museum All Events
ATTACH;FMTTYPE=image/png:https://dunedinmuseum.org/wp-content/uploads/2026/03/Scotch-and-Stories-save-the-date-Instagram-Post-45-1.png
ORGANIZER;CN="Dunedin History Museum":MAILTO:admin@dunedinmuseum.org
END:VEVENT
BEGIN:VEVENT
DTSTART;TZID=America/New_York:20260515T100000
DTEND;TZID=America/New_York:20260515T120000
DTSTAMP:20260425T142533
CREATED:20260224T171131Z
LAST-MODIFIED:20260224T171319Z
UID:10001473-1778839200-1778846400@dunedinmuseum.org
SUMMARY:Downtown Dunedin Walking Tour
DESCRIPTION:Meet at the entrance of the Museum and embark on a two-hour interactive historic walking tour through downtown Dunedin. Discover hidden treasures\, engage in role-playing\, and create history in an educational\, entertaining\, and enlightening experience.  \nPlease wear sunglasses or hat to protect from the sun  \n*Minimum of 6 people sign up – if not enough people sign up credit towards next walk* \nFor More Information call (727) 736-1176 or email us at admin@dunedinmuseum.org \n\nGet Tickets
URL:https://dunedinmuseum.org/event/downtown-dunedin-walking-tour-13/
LOCATION:Dunedin History Museum\, 349 Main St\, Dunedin\, FL\, 34698\, United States
CATEGORIES:Downtown Walking Tour,Dunedin History Museum All Events
ATTACH;FMTTYPE=image/webp:https://dunedinmuseum.org/wp-content/uploads/2024/03/Downtown-Walking-Tour-with-the-Dunedin-History-Museum.webp
END:VEVENT
END:VCALENDAR