BEGIN:VCALENDAR
VERSION:2.0
PRODID:-//Dunedin History Museum - ECPv6.15.20//NONSGML v1.0//EN
CALSCALE:GREGORIAN
METHOD:PUBLISH
X-ORIGINAL-URL:https://dunedinmuseum.org
X-WR-CALDESC:Events for Dunedin History Museum
REFRESH-INTERVAL;VALUE=DURATION:PT1H
X-Robots-Tag:noindex
X-PUBLISHED-TTL:PT1H
BEGIN:VTIMEZONE
TZID:America/New_York
BEGIN:DAYLIGHT
TZOFFSETFROM:-0500
TZOFFSETTO:-0400
TZNAME:EDT
DTSTART:20250309T070000
END:DAYLIGHT
BEGIN:STANDARD
TZOFFSETFROM:-0400
TZOFFSETTO:-0500
TZNAME:EST
DTSTART:20251102T060000
END:STANDARD
BEGIN:DAYLIGHT
TZOFFSETFROM:-0500
TZOFFSETTO:-0400
TZNAME:EDT
DTSTART:20260308T070000
END:DAYLIGHT
BEGIN:STANDARD
TZOFFSETFROM:-0400
TZOFFSETTO:-0500
TZNAME:EST
DTSTART:20261101T060000
END:STANDARD
BEGIN:DAYLIGHT
TZOFFSETFROM:-0500
TZOFFSETTO:-0400
TZNAME:EDT
DTSTART:20270314T070000
END:DAYLIGHT
BEGIN:STANDARD
TZOFFSETFROM:-0400
TZOFFSETTO:-0500
TZNAME:EST
DTSTART:20271107T060000
END:STANDARD
END:VTIMEZONE
BEGIN:VEVENT
DTSTART;TZID=America/New_York:20260226T100000
DTEND;TZID=America/New_York:20260226T100000
DTSTAMP:20260425T150457
CREATED:20260114T162152Z
LAST-MODIFIED:20260120T205346Z
UID:10001463-1772100000-1772100000@dunedinmuseum.org
SUMMARY:Jacksons Street Walking Tour – Dunedin's Voices Black History Month Edition
DESCRIPTION:Don’t miss your chance to take part in this powerful journey through Dunedin’s Black history. \nJoin us for a special walking tour in celebration of Black History Month as we explore the rich history of Dunedin’s Black community. This tour will take you through significant landmarks along Jackson Street. Learn about the lives and legacies of prominent Black individuals who helped shape Dunedin’s culture\, growth\, and history. \nAs we walk\, we’ll reflect on the enduring impact of the Black community\, celebrate its achievements\, and discuss the challenges faced throughout the years. This is an opportunity to gain a deeper understanding of Dunedin’s diverse heritage and the vital contributions of its Black residents. \n** We will meet in front of Eli’s BBQ and go on our exploration from there! ** \nPlease wear closed-toe shoes and bring sun protection \n*Minimum of 6 people sign up – if not enough people sign up credit towards next walk* \nFor More Information call (727) 736-1176 or email us at admin@dunedinmuseum.org \n\nGet Tickets
URL:https://dunedinmuseum.org/event/jacksons-street-walking-tour-dunedins-voices-black-history-month-edition-3/
LOCATION:360 Skinner Blvd\, Dunedin\, FL 34698\, 360 Skinner Blvd.\, Dunedin\, FL\, 34698-5700\, United States
CATEGORIES:Dunedin History Museum All Events
ATTACH;FMTTYPE=image/png:https://dunedinmuseum.org/wp-content/uploads/2026/01/jackson-street-walking-tour-.png
END:VEVENT
BEGIN:VEVENT
DTSTART;TZID=America/New_York:20260228T100000
DTEND;TZID=America/New_York:20260228T140000
DTSTAMP:20260425T150457
CREATED:20260205T210956Z
LAST-MODIFIED:20260211T164122Z
UID:10001470-1772272800-1772287200@dunedinmuseum.org
SUMMARY:Gulf Coast Fest: Celebrating our Florida Hope Spot
DESCRIPTION:The Dunedin History Museum is proud to partner with the City of Dunedin to host Gulf Coast Fest\, a free\, family-friendly event celebrating ocean conservation\, sustainability\, and Florida’s unique coastal environment. \nThroughout the day\, the museum will serve as the lecture and presentation hub for engaging talks\, live animal programs\, and educational experiences focused on protecting our waters\, wildlife\, and environmental systems. The parking lot adjacent to the museum will also host additional activities and interactive experiences as part of the festival\, creating a lively\, walkable event space in downtown Dunedin. \nIn celebration of this community partnership\, museum admission will be complimentary throughout the day. We invite visitors to explore the museum\, attend lectures\, and take part in this meaningful day dedicated to stewardship of our Gulf Coast. \nThe event also kicks off with a pre-event downtown cleanup at 9:00 a.m. Registration is required for those interested in starting the day with hands-on environmental action. Sign up through the link\nhttps://www.eventbrite.com/e/dunedin-gulf-coast-fest-cleanup-tickets-1979333211919?aff=oddtdtcreator \nFor More Information call (727) 736-1176 or email us at admin@dunedinmuseum.org
URL:https://dunedinmuseum.org/event/gulf-coast-fest-celebrating-our-florida-hope-spot/
LOCATION:Dunedin History Museum\, 349 Main St\, Dunedin\, FL\, 34698\, United States
CATEGORIES:Dunedin History Museum All Events,Dunedin's Voices Edition
ATTACH;FMTTYPE=image/jpeg:https://dunedinmuseum.org/wp-content/uploads/2026/02/Gulf-Coast-Fest-2026-Flyer-11-x-17-in-Final.jpg
END:VEVENT
END:VCALENDAR