BEGIN:VCALENDAR
VERSION:2.0
PRODID:-//Dunedin History Museum - ECPv6.15.20//NONSGML v1.0//EN
CALSCALE:GREGORIAN
METHOD:PUBLISH
X-WR-CALNAME:Dunedin History Museum
X-ORIGINAL-URL:https://dunedinmuseum.org
X-WR-CALDESC:Events for Dunedin History Museum
REFRESH-INTERVAL;VALUE=DURATION:PT1H
X-Robots-Tag:noindex
X-PUBLISHED-TTL:PT1H
BEGIN:VTIMEZONE
TZID:America/New_York
BEGIN:DAYLIGHT
TZOFFSETFROM:-0500
TZOFFSETTO:-0400
TZNAME:EDT
DTSTART:20240310T070000
END:DAYLIGHT
BEGIN:STANDARD
TZOFFSETFROM:-0400
TZOFFSETTO:-0500
TZNAME:EST
DTSTART:20241103T060000
END:STANDARD
BEGIN:DAYLIGHT
TZOFFSETFROM:-0500
TZOFFSETTO:-0400
TZNAME:EDT
DTSTART:20250309T070000
END:DAYLIGHT
BEGIN:STANDARD
TZOFFSETFROM:-0400
TZOFFSETTO:-0500
TZNAME:EST
DTSTART:20251102T060000
END:STANDARD
BEGIN:DAYLIGHT
TZOFFSETFROM:-0500
TZOFFSETTO:-0400
TZNAME:EDT
DTSTART:20260308T070000
END:DAYLIGHT
BEGIN:STANDARD
TZOFFSETFROM:-0400
TZOFFSETTO:-0500
TZNAME:EST
DTSTART:20261101T060000
END:STANDARD
END:VTIMEZONE
BEGIN:VEVENT
DTSTART;TZID=America/New_York:20250917T180000
DTEND;TZID=America/New_York:20250917T200000
DTSTAMP:20260425T211453
CREATED:20250901T191505Z
LAST-MODIFIED:20250901T191505Z
UID:10001436-1758132000-1758139200@dunedinmuseum.org
SUMMARY:Mix & Mingle : Rebuilding After The Storm – A Farmer’s Story of Resilience
DESCRIPTION:Our September Mix & Mingle is set to be an evening of connection\, conversation\, and community spirit. We’re thrilled to welcome Roland Milam\, founder of Life Farms\, as our featured guest. After a career as a world-traveling salesman\, Roland turned to farming in retirement and built Life Farms into a flourishing source of flowers\, fruits\, and vegetables. He will share his inspiring journey of resilience and recovery—what it takes to rebuild after hurricanes and keep moving forward as a farmer in our community. 🌱 \nGuests will enjoy light bites and refreshments as you mix and mingle with friends\, neighbors\, and fellow history lovers. This relaxed evening is a chance to hear a local story of perseverance while also getting a taste of what’s to come at the museum this fall and winter. \n📧 Museum Members: Please RSVP to admin@dunedinmuseum.org🎟️ Non-Members: Tickets are just $10 to enjoy this lecture. \nDon’t miss this opportunity to gather at the Dunedin History Museum\, celebrate community resilience\, and look ahead to an exciting lineup of programs that bring history to life. \nFor More Information call (727) 736-1176 or email us at admin@dunedinmuseum.org
URL:https://dunedinmuseum.org/event/mix-mingle-rebuilding-after-the-storm-a-farmers-story-of-resilience/
LOCATION:Dunedin History Museum\, 349 Main St\, Dunedin\, FL\, 34698\, United States
CATEGORIES:Dunedin History Museum All Events,Mix & Mingles @ the Museum
ATTACH;FMTTYPE=image/png:https://dunedinmuseum.org/wp-content/uploads/2025/09/1.png
END:VEVENT
END:VCALENDAR