BEGIN:VCALENDAR
VERSION:2.0
PRODID:-//Dunedin History Museum - ECPv6.15.20//NONSGML v1.0//EN
CALSCALE:GREGORIAN
METHOD:PUBLISH
X-WR-CALNAME:Dunedin History Museum
X-ORIGINAL-URL:https://dunedinmuseum.org
X-WR-CALDESC:Events for Dunedin History Museum
REFRESH-INTERVAL;VALUE=DURATION:PT1H
X-Robots-Tag:noindex
X-PUBLISHED-TTL:PT1H
BEGIN:VTIMEZONE
TZID:America/New_York
BEGIN:DAYLIGHT
TZOFFSETFROM:-0500
TZOFFSETTO:-0400
TZNAME:EDT
DTSTART:20240310T070000
END:DAYLIGHT
BEGIN:STANDARD
TZOFFSETFROM:-0400
TZOFFSETTO:-0500
TZNAME:EST
DTSTART:20241103T060000
END:STANDARD
BEGIN:DAYLIGHT
TZOFFSETFROM:-0500
TZOFFSETTO:-0400
TZNAME:EDT
DTSTART:20250309T070000
END:DAYLIGHT
BEGIN:STANDARD
TZOFFSETFROM:-0400
TZOFFSETTO:-0500
TZNAME:EST
DTSTART:20251102T060000
END:STANDARD
BEGIN:DAYLIGHT
TZOFFSETFROM:-0500
TZOFFSETTO:-0400
TZNAME:EDT
DTSTART:20260308T070000
END:DAYLIGHT
BEGIN:STANDARD
TZOFFSETFROM:-0400
TZOFFSETTO:-0500
TZNAME:EST
DTSTART:20261101T060000
END:STANDARD
END:VTIMEZONE
BEGIN:VEVENT
DTSTART;TZID=America/New_York:20251010T170000
DTEND;TZID=America/New_York:20251010T183000
DTSTAMP:20260425T212804
CREATED:20250917T170329Z
LAST-MODIFIED:20250917T170329Z
UID:10001443-1760115600-1760121000@dunedinmuseum.org
SUMMARY:Victoria Drive Sunset Stroll
DESCRIPTION:Enjoy the scenic views and historic homes along the original bumpy crushed clam shell road of Victoria Drive at Sunset. Your guide\,  will escort guests past the outside of each home and describe their history as well as the facts and stories about the wealthy homeowners that built and lived in these homes from 1878-1903\, along the waterfront. \nPlease wear closed toe shoes and bring a flash light  \n*Minimum of 6 people sign up – if not enough people sign up credit towards next walk* \nFor More Information call (727) 736-1176 or email us at admin@dunedinmuseum.org
URL:https://dunedinmuseum.org/event/victoria-drive-sunset-stroll-2/
LOCATION:Edgewater Park Dunedin\, 51 Main Street\, Dunedin\, FL\, 34698\, United States
CATEGORIES:Dunedin History Museum All Events,Victoria Drive Sunset Stroll
ATTACH;FMTTYPE=image/webp:https://dunedinmuseum.org/wp-content/uploads/2024/03/VIctoria-Dr-Stroll-by-the-Dunedin-History-Museum.webp
END:VEVENT
BEGIN:VEVENT
DTSTART;TZID=America/New_York:20251017T100000
DTEND;TZID=America/New_York:20251017T120000
DTSTAMP:20260425T212804
CREATED:20250917T170718Z
LAST-MODIFIED:20250917T170718Z
UID:10001442-1760695200-1760702400@dunedinmuseum.org
SUMMARY:Downtown Dunedin Walking Tour
DESCRIPTION:Meet at the entrance of the Museum and embark on a two-hour interactive historic walking tour through downtown Dunedin. Discover hidden treasures\, engage in role-playing\, and create history in an educational\, entertaining\, and enlightening experience.  \nPlease wear sunglasses or hat to protect from the sun  \n*Minimum of 6 people sign up – if not enough people sign up credit towards next walk* \nFor More Information call (727) 736-1176 or email us at admin@dunedinmuseum.org
URL:https://dunedinmuseum.org/event/downtown-dunedin-walking-tour-7/
LOCATION:Dunedin History Museum\, 349 Main St\, Dunedin\, FL\, 34698\, United States
CATEGORIES:Downtown Walking Tour,Dunedin History Museum All Events
ATTACH;FMTTYPE=image/webp:https://dunedinmuseum.org/wp-content/uploads/2024/03/Downtown-Walking-Tour-with-the-Dunedin-History-Museum.webp
END:VEVENT
BEGIN:VEVENT
DTSTART;TZID=America/New_York:20251023T183000
DTEND;TZID=America/New_York:20251023T210000
DTSTAMP:20260425T212804
CREATED:20250911T175441Z
LAST-MODIFIED:20250911T175441Z
UID:10001439-1761244200-1761253200@dunedinmuseum.org
SUMMARY:Spookeasy at the Andrews Memorial Chapel : Night of the Druids
DESCRIPTION:🎃 Spookeasy – October 23 | Doors Open 6 PM | Program 6:30–9 PM | Andrews Memorial Chapel \nStep into the spirit of the season at Spookeasy! 🕯️✨ Join us for a spirited evening at the historic Andrews Memorial Chapel as the Dunedin History Museum presents Spookeasy 2025! This year’s program dives into the mysterious world of the Celtic Druids\, exploring the history of their practices\, rituals\, and traditions that helped shape the origins of Halloween. 🍂✨ \nGuests are encouraged to come in costume—whether spooky\, historical\, or whimsical—and take part in our lively costume contest and dancing. Light bites and refreshments will be served throughout the evening\, making it the perfect blend of history\, celebration\, and community fun. \nDon’t miss this unique opportunity to connect the past with the present as we bring history to life through one of the season’s most beloved holidays. \nFor More Information call (727) 736-1176 or email us at admin@dunedinmuseum.org \n 
URL:https://dunedinmuseum.org/event/spookeasy-at-the-andrews-memorial-chapel-night-of-the-druids/
LOCATION:Andrews Memorial Chapel\, 1899 San Mateo Dr.\, Dunedin\, FL\, 34697\, United States
CATEGORIES:Dunedin History Museum All Events
ATTACH;FMTTYPE=image/png:https://dunedinmuseum.org/wp-content/uploads/2025/09/spookeasy-ig-2.png
END:VEVENT
END:VCALENDAR